BEGIN:VCALENDAR
VERSION:2.0
PRODID:-//www.reitnau.ch//NONSGML kigkonsult.se ICALCREATOR_VERSION//
CALSCALE:GREGORIAN
METHOD:PUBLISH
X-WR-TIMEZONE','EUROPE/BERLIN:
BEGIN:VEVENT
UID:20260424T134407CEST-6446WVeV9l@www.reitnau.ch
DTSTAMP:20260424T114407Z
DESCRIPTION:Klicken Sie auf den folgenden Link\, um weitere Informationen z
 ur Veranstaltung zu erhalten:\nhttp://www.reitnau.ch/de/veranstaltungen/de
 tail/detail.php?i=976
DTSTART:20260425T090000
DTEND:20260425T110000
LOCATION:Schützenhaus Attelwil
SUMMARY:1. Obligatorische
END:VEVENT
END:VCALENDAR
